BEGIN:VCALENDAR
VERSION:2.0
PRODID:-//Bauen digital Schweiz / buildingSMART Switzerland - ECPv6.15.20//NONSGML v1.0//EN
CALSCALE:GREGORIAN
METHOD:PUBLISH
X-WR-CALNAME:Bauen digital Schweiz / buildingSMART Switzerland
X-ORIGINAL-URL:https://bauen-digital.ch
X-WR-CALDESC:Veranstaltungen für Bauen digital Schweiz / buildingSMART Switzerland
REFRESH-INTERVAL;VALUE=DURATION:PT1H
X-Robots-Tag:noindex
X-PUBLISHED-TTL:PT1H
BEGIN:VTIMEZONE
TZID:Europe/Zurich
BEGIN:DAYLIGHT
TZOFFSETFROM:+0100
TZOFFSETTO:+0200
TZNAME:CEST
DTSTART:20240331T010000
END:DAYLIGHT
BEGIN:STANDARD
TZOFFSETFROM:+0200
TZOFFSETTO:+0100
TZNAME:CET
DTSTART:20241027T010000
END:STANDARD
BEGIN:DAYLIGHT
TZOFFSETFROM:+0100
TZOFFSETTO:+0200
TZNAME:CEST
DTSTART:20250330T010000
END:DAYLIGHT
BEGIN:STANDARD
TZOFFSETFROM:+0200
TZOFFSETTO:+0100
TZNAME:CET
DTSTART:20251026T010000
END:STANDARD
BEGIN:DAYLIGHT
TZOFFSETFROM:+0100
TZOFFSETTO:+0200
TZNAME:CEST
DTSTART:20260329T010000
END:DAYLIGHT
BEGIN:STANDARD
TZOFFSETFROM:+0200
TZOFFSETTO:+0100
TZNAME:CET
DTSTART:20261025T010000
END:STANDARD
END:VTIMEZONE
BEGIN:VEVENT
DTSTART;TZID=Europe/Zurich:20250904T133000
DTEND;TZID=Europe/Zurich:20250904T170000
DTSTAMP:20260425T131013
CREATED:20250408T111255Z
LAST-MODIFIED:20250417T113351Z
UID:11519-1756992600-1757005200@bauen-digital.ch
SUMMARY:Modellbasierte Mengenermittlung mit dem eBKP-H
DESCRIPTION:3D-Modelle und die eBKP-Systematik stellen im Grundsatz eine vielversprechende Ergänzung dar. Dieser Kurs geht auf das Potenzial und die Grenzen der Verbindung zwischen Modell und Kostenermittlung ein. \n\n\n\n\nIn Kürze\n\n\n\n\n\nBrauchbare Einstellungen der IFC-Schnittstelle\nModellprüfung IFC für die Weiterverwendung sowie die Empfänger\nPrüfung der Plausibilität mittels Objektarten-Katalog (OAK)\n\nHier gehts zur Anmeldung
URL:https://bauen-digital.ch/event/modellbasierte-mengenermittlung-mit-dem-ebkp-h/
LOCATION:CRB\, Steinstrasse 21\, Zürich\, 8002
CATEGORIES:Mitglieder Events
ATTACH;FMTTYPE=image/png:https://bauen-digital.ch/wp/wp-content/uploads/crb3.png
END:VEVENT
END:VCALENDAR